{
 "currentVersion": 10.91,
 "serviceDescription": "Building Footprints 2020",
 "mapName": "Layers",
 "description": "",
 "copyrightText": "",
 "supportsDynamicLayers": true,
 "layers": [
  {
   "id": 0,
   "name": "Building Outlines",
   "parentLayerId": -1,
   "defaultVisibility": true,
   "subLayerIds": null,
   "minScale": 2400,
   "maxScale": 0,
   "type": "Feature Layer",
   "geometryType": "esriGeometryPolygon"
  }
 ],
 "tables": [],
 "spatialReference": {
  "wkid": 102645,
  "latestWkid": 2229
 },
 "singleFusedMapCache": true,
 "tileInfo": {
  "rows": 512,
  "cols": 512,
  "dpi": 96,
  "format": "PNG",
  "compressionQuality": 0,
  "origin": {
   "x": -117608900,
   "y": 156459700
  },
  "spatialReference": {
   "wkid": 102645,
   "latestWkid": 2229
  },
  "lods": [
   {
    "level": 0,
    "resolution": 440,
    "scale": 506880
   },
   {
    "level": 1,
    "resolution": 220,
    "scale": 253440
   },
   {
    "level": 2,
    "resolution": 104.16666666666666,
    "scale": 120000
   },
   {
    "level": 3,
    "resolution": 83.33333333333333,
    "scale": 96000
   },
   {
    "level": 4,
    "resolution": 55,
    "scale": 63360
   },
   {
    "level": 5,
    "resolution": 27.5,
    "scale": 31680
   },
   {
    "level": 6,
    "resolution": 10.416666666666666,
    "scale": 12000
   },
   {
    "level": 7,
    "resolution": 4.166666666666666,
    "scale": 4800
   },
   {
    "level": 8,
    "resolution": 2.083333333333333,
    "scale": 2400
   },
   {
    "level": 9,
    "resolution": 1.0416666666666665,
    "scale": 1200
   },
   {
    "level": 10,
    "resolution": 0.8333333333333333,
    "scale": 960
   },
   {
    "level": 11,
    "resolution": 0.5208333333333333,
    "scale": 600
   }
  ]
 },
 "initialExtent": {
  "xmin": 6235936.608860527,
  "ymin": 1774006.8441964346,
  "xmax": 6602690.081082749,
  "ymax": 1969319.3441964346,
  "spatialReference": {
   "wkid": 102645,
   "latestWkid": 2229
  }
 },
 "fullExtent": {
  "xmin": 6359604.840000004,
  "ymin": 1715123.0900000036,
  "xmax": 6514567.530000001,
  "ymax": 1945630.4931250066,
  "spatialReference": {
   "wkid": 102645,
   "latestWkid": 2229
  }
 },
 "minScale": 5.91657527591555E8,
 "maxScale": 4513.988705,
 "units": "esriFeet",
 "supportedImageFormatTypes": "PNG32,PNG24,PNG,JPG,DIB,TIFF,EMF,PS,PDF,GIF,SVG,SVGZ,BMP",
 "documentInfo": {
  "Title": "BuildingFootprints",
  "Author": "ZIMAS",
  "Comments": "Building Footprints 2020",
  "Subject": "Building Footprints 2020",
  "Category": "",
  "AntialiasingMode": "None",
  "TextAntialiasingMode": "Force",
  "Keywords": "ZIMAS"
 },
 "capabilities": "Map,Query,Data",
 "supportedQueryFormats": "JSON, geoJSON",
 "exportTilesAllowed": false,
 "referenceScale": 0,
 "datumTransformations": [
  {
   "geoTransforms": [
    {
     "wkid": 108001,
     "latestWkid": 1241,
     "transformForward": true,
     "name": "NAD_1927_To_NAD_1983_NADCON"
    }
   ]
  },
  {
   "geoTransforms": [
    {
     "wkid": 108001,
     "latestWkid": 1241,
     "transformForward": false,
     "name": "NAD_1927_To_NAD_1983_NADCON"
    }
   ]
  }
 ],
 "supportsDatumTransformation": true,
 "maxRecordCount": 1000,
 "maxImageHeight": 4096,
 "maxImageWidth": 4096,
 "supportedExtensions": "",
 "resampling": false
}
